BEGIN:VCALENDAR
PRODID:-//http://statistik.d-u-v.org//PHP ultracalendar//EN
VERSION:2.0
METHOD:PUBLISH
BEGIN:VEVENT
DTSTAMP:20260420T024717
CREATED:20200821T164503
UID:1776653237.0.60020800-69625@statistik.d-u-v.org
SUMMARY:AMJA 50 Mile Ultramarathon
DESCRIPTION: AMJA 50 Mile Ultramarathon\n
  \n
  
DTSTART:19821003T000000
DTEND:00000000T235900
LOCATION:Chicago, IL\, USA
URL:
CATEGORIES:Ultramarathon
CONTACT:
CLASS:PUBLIC
PRIORITY:5
TRANSP:OPAQUE
END:VEVENT
END:VCALENDAR
