BEGIN:VCALENDAR
PRODID:-//http://statistik.d-u-v.org//PHP ultracalendar//EN
VERSION:2.0
METHOD:PUBLISH
BEGIN:VEVENT
DTSTAMP:20260423T020318
CREATED:20200819T201419
UID:1776909798.0.98953500-69614@statistik.d-u-v.org
SUMMARY:Self-Transcendence Race 48h Kladno - 100mi Split
DESCRIPTION: Self-Transcendence Race 48h Kladno - 100mi Split\n
  \n
  praha[at]srichinmoyraces.org
DTSTART:20200724T120000
DTEND:00000000T235900
LOCATION:Kladno\, CZE
URL:http://cs.srichinmoyraces.org
CATEGORIES:Ultramarathon
CONTACT:
CLASS:PUBLIC
PRIORITY:5
TRANSP:OPAQUE
END:VEVENT
END:VCALENDAR
