BEGIN:VCALENDAR
PRODID:-//http://statistik.d-u-v.org//PHP ultracalendar//EN
VERSION:2.0
METHOD:PUBLISH
BEGIN:VEVENT
DTSTAMP:20260422T050327
CREATED:20200818T220008
UID:1776834207.0.26629900-69587@statistik.d-u-v.org
SUMMARY:Vogelsberger Vulkan-Trail
DESCRIPTION: Vogelsberger Vulkan-Trail\n
  Armin Buss\n
  info[at]vulkantrail.de
DTSTART:20211030T060000
DTEND:00000000T235900
LOCATION:Schotten\, GER
URL:http://www.vulkantrail.de/
CATEGORIES:Ultramarathon
CONTACT:Armin Buss
CLASS:PUBLIC
PRIORITY:5
TRANSP:OPAQUE
END:VEVENT
END:VCALENDAR
