BEGIN:VCALENDAR
PRODID:-//http://statistik.d-u-v.org//PHP ultracalendar//EN
VERSION:2.0
METHOD:PUBLISH
BEGIN:VEVENT
DTSTAMP:20260425T181007
CREATED:20200818T170555
UID:1777140607.0.51449400-69583@statistik.d-u-v.org
SUMMARY:La Chouffe Trail 47km
DESCRIPTION: La Chouffe Trail 47km\n
  \n
  
DTSTART:20210710T080000
DTEND:00000000T235900
LOCATION:Houffalize\, BEL
URL:https://sportevents.be/en-la-chouffe-trail?count=2
CATEGORIES:Ultramarathon
CONTACT:
CLASS:PUBLIC
PRIORITY:5
TRANSP:OPAQUE
END:VEVENT
END:VCALENDAR
