BEGIN:VCALENDAR
PRODID:-//http://statistik.d-u-v.org//PHP ultracalendar//EN
VERSION:2.0
METHOD:PUBLISH
BEGIN:VEVENT
DTSTAMP:20260419T164916
CREATED:20100811T174508
UID:1776617356.0.23755200-6953@statistik.d-u-v.org
SUMMARY:Buckeye 100 Mile Run
DESCRIPTION: Buckeye 100 Mile Run\n
  Race Director Jamil Coury\n
  jamil[at]aravaiparunning.com
DTSTART:20100904T060000
DTEND:20100905T235900
LOCATION:Buckeye, AZ\, USA
URL:http://www.aravaiparunning.com/aravaiparunning/page.php?30
CATEGORIES:Ultramarathon
CONTACT:Race Director Jamil Coury
CLASS:PUBLIC
PRIORITY:5
TRANSP:OPAQUE
END:VEVENT
END:VCALENDAR
