BEGIN:VCALENDAR
PRODID:-//http://statistik.d-u-v.org//PHP ultracalendar//EN
VERSION:2.0
METHOD:PUBLISH
BEGIN:VEVENT
DTSTAMP:20260424T160540
CREATED:20200811T081853
UID:1777046740.0.60803500-69421@statistik.d-u-v.org
SUMMARY:Running Is Not Closed Trailrun - Race 5
DESCRIPTION: Running Is Not Closed Trailrun - Race 5\n
  \n
  
DTSTART:20200808T000000
DTEND:00000000T235900
LOCATION:Newport Beach, CA\, USA
URL:https://www.runningisnotclosed.com/
CATEGORIES:Ultramarathon
CONTACT:
CLASS:PUBLIC
PRIORITY:5
TRANSP:OPAQUE
END:VEVENT
END:VCALENDAR
