BEGIN:VCALENDAR
PRODID:-//http://statistik.d-u-v.org//PHP ultracalendar//EN
VERSION:2.0
METHOD:PUBLISH
BEGIN:VEVENT
DTSTAMP:20260424T160625
CREATED:20200811T080435
UID:1777046785.0.14806600-69415@statistik.d-u-v.org
SUMMARY:Southern Discomfort 30 Hour Race
DESCRIPTION: Southern Discomfort 30 Hour Race\n
  Kelli Kilpatrick\n
  kelli.sliwinski[at]gmail.com
DTSTART:20200808T080000
DTEND:20200809T235900
LOCATION:Albany, GA\, USA
URL:http://ultrasignup.com/register.aspx?did=59536
CATEGORIES:Ultramarathon
CONTACT:Kelli Kilpatrick
CLASS:PUBLIC
PRIORITY:5
TRANSP:OPAQUE
END:VEVENT
END:VCALENDAR
