BEGIN:VCALENDAR
PRODID:-//http://statistik.d-u-v.org//PHP ultracalendar//EN
VERSION:2.0
METHOD:PUBLISH
BEGIN:VEVENT
DTSTAMP:20260424T141907
CREATED:20200728T192701
UID:1777040347.0.82456200-69166@statistik.d-u-v.org
SUMMARY:National TAC 50 Km Championchip
DESCRIPTION: National TAC 50 Km Championchip\n
  \n
  
DTSTART:19840923T000000
DTEND:00000000T235900
LOCATION:Washington, DC\, USA
URL:
CATEGORIES:Ultramarathon
CONTACT:
CLASS:PUBLIC
PRIORITY:5
TRANSP:OPAQUE
END:VEVENT
END:VCALENDAR
