BEGIN:VCALENDAR
PRODID:-//http://statistik.d-u-v.org//PHP ultracalendar//EN
VERSION:2.0
METHOD:PUBLISH
BEGIN:VEVENT
DTSTAMP:20260423T033640
CREATED:20200728T164943
UID:1776915400.0.43950500-69158@statistik.d-u-v.org
SUMMARY:Children's Hospital Benefit Run
DESCRIPTION: Children's Hospital Benefit Run\n
  \n
  
DTSTART:20111001T000000
DTEND:00000000T235900
LOCATION:Woodsfield, OH\, USA
URL:
CATEGORIES:Ultramarathon
CONTACT:
CLASS:PUBLIC
PRIORITY:5
TRANSP:OPAQUE
END:VEVENT
END:VCALENDAR
