BEGIN:VCALENDAR
PRODID:-//http://statistik.d-u-v.org//PHP ultracalendar//EN
VERSION:2.0
METHOD:PUBLISH
BEGIN:VEVENT
DTSTAMP:20260423T043602
CREATED:20200727T213815
UID:1776918962.0.37455600-69123@statistik.d-u-v.org
SUMMARY:Edmund Fitzgerald Ultras - 50 Km
DESCRIPTION: Edmund Fitzgerald Ultras - 50 Km\n
  \n
  
DTSTART:19821030T000000
DTEND:00000000T235900
LOCATION:Two Harbors, MN\, USA
URL:
CATEGORIES:Ultramarathon
CONTACT:
CLASS:PUBLIC
PRIORITY:5
TRANSP:OPAQUE
END:VEVENT
END:VCALENDAR
