BEGIN:VCALENDAR
PRODID:-//http://statistik.d-u-v.org//PHP ultracalendar//EN
VERSION:2.0
METHOD:PUBLISH
BEGIN:VEVENT
DTSTAMP:20260420T045945
CREATED:20200727T181346
UID:1776661185.0.78734200-69114@statistik.d-u-v.org
SUMMARY:Sri Chinmoy 10 Day Race - 6d Split
DESCRIPTION: Sri Chinmoy 10 Day Race - 6d Split\n
  \n
  
DTSTART:19970424T000000
DTEND:19970430T235900
LOCATION:New York, NY\, USA
URL:
CATEGORIES:Ultramarathon
CONTACT:
CLASS:PUBLIC
PRIORITY:5
TRANSP:OPAQUE
END:VEVENT
END:VCALENDAR
