BEGIN:VCALENDAR
PRODID:-//http://statistik.d-u-v.org//PHP ultracalendar//EN
VERSION:2.0
METHOD:PUBLISH
BEGIN:VEVENT
DTSTAMP:20260423T033712
CREATED:20200724T171420
UID:1776915432.0.37583300-69043@statistik.d-u-v.org
SUMMARY:Běhej Lesy Jizerská 50 Km
DESCRIPTION: Běhej Lesy Jizerská 50 Km\n
  \n
  info[at]jiz50.cz
DTSTART:20200829T090000
DTEND:00000000T235900
LOCATION:Bedrichov\, CZE
URL:http://run.jiz50.cz/
CATEGORIES:Ultramarathon
CONTACT:
CLASS:PUBLIC
PRIORITY:5
TRANSP:OPAQUE
END:VEVENT
END:VCALENDAR
