BEGIN:VCALENDAR
PRODID:-//http://statistik.d-u-v.org//PHP ultracalendar//EN
VERSION:2.0
METHOD:PUBLISH
BEGIN:VEVENT
DTSTAMP:20260422T202657
CREATED:20200723T171254
UID:1776889617.0.51768100-69013@statistik.d-u-v.org
SUMMARY:Campeonato Int. 24 horas Corriendo
DESCRIPTION: Campeonato Int. 24 horas Corriendo\n
  Jorge Luis Andonie\n
  jlandonie[at]intercable.net
DTSTART:20020323T000000
DTEND:20020324T120000
LOCATION:Monterrey\, MEX
URL:http://www.multisport.com.mx 
CATEGORIES:Ultramarathon
CONTACT:Jorge Luis Andonie
CLASS:PUBLIC
PRIORITY:5
TRANSP:OPAQUE
END:VEVENT
END:VCALENDAR
