BEGIN:VCALENDAR
PRODID:-//http://statistik.d-u-v.org//PHP ultracalendar//EN
VERSION:2.0
METHOD:PUBLISH
BEGIN:VEVENT
DTSTAMP:20260422T035959
CREATED:20200722T163530
UID:1776830399.0.81868300-68982@statistik.d-u-v.org
SUMMARY:Skrējiens Rīga–Valmiera
DESCRIPTION: Skrējiens Rīga–Valmiera\n
  Matiss Vecvagaris\n
  mvecvagaris[at]gmail.com
DTSTART:19920000T000000
DTEND:00000000T235900
LOCATION:Riga\, LAT
URL:http://facebook.com/Nergas
CATEGORIES:Ultramarathon
CONTACT:Matiss Vecvagaris
CLASS:PUBLIC
PRIORITY:5
TRANSP:OPAQUE
END:VEVENT
END:VCALENDAR
