BEGIN:VCALENDAR
PRODID:-//http://statistik.d-u-v.org//PHP ultracalendar//EN
VERSION:2.0
METHOD:PUBLISH
BEGIN:VEVENT
DTSTAMP:20260423T002742
CREATED:20200715T081433
UID:1776904062.0.30662000-68780@statistik.d-u-v.org
SUMMARY:Whiterock 50 Mile Ultra Race
DESCRIPTION: Whiterock 50 Mile Ultra Race\n
  \n
  
DTSTART:20200712T000100
DTEND:00000000T235900
LOCATION:Coon Rapids, IA\, USA
URL:https://www.facebook.com/whiterockultra/
CATEGORIES:Ultramarathon
CONTACT:
CLASS:PUBLIC
PRIORITY:5
TRANSP:OPAQUE
END:VEVENT
END:VCALENDAR
