BEGIN:VCALENDAR
PRODID:-//http://statistik.d-u-v.org//PHP ultracalendar//EN
VERSION:2.0
METHOD:PUBLISH
BEGIN:VEVENT
DTSTAMP:20260422T224923
CREATED:20200710T172555
UID:1776898163.0.66528400-68643@statistik.d-u-v.org
SUMMARY:Harlequin 100km Nite Race
DESCRIPTION: Harlequin 100km Nite Race\n
  \n
  
DTSTART:19771105T000000
DTEND:00000000T235900
LOCATION:Pretoria\, RSA
URL:http://www.ultradistance.co.za/ultradistance/100km/pta_nite/pta_info.htm
CATEGORIES:Ultramarathon
CONTACT:
CLASS:PUBLIC
PRIORITY:5
TRANSP:OPAQUE
END:VEVENT
END:VCALENDAR
