BEGIN:VCALENDAR
PRODID:-//http://statistik.d-u-v.org//PHP ultracalendar//EN
VERSION:2.0
METHOD:PUBLISH
BEGIN:VEVENT
DTSTAMP:20260423T085518
CREATED:20200709T101140
UID:1776934518.0.17075200-68592@statistik.d-u-v.org
SUMMARY:Durban 100 Miles Track Race
DESCRIPTION: Durban 100 Miles Track Race\n
  \n
  
DTSTART:19740726T000000
DTEND:19740727T235900
LOCATION:Durban\, RSA
URL:
CATEGORIES:Ultramarathon
CONTACT:
CLASS:PUBLIC
PRIORITY:5
TRANSP:OPAQUE
END:VEVENT
END:VCALENDAR
