BEGIN:VCALENDAR
PRODID:-//http://statistik.d-u-v.org//PHP ultracalendar//EN
VERSION:2.0
METHOD:PUBLISH
BEGIN:VEVENT
DTSTAMP:20260419T185827
CREATED:20200705T201940
UID:1776625107.0.40029800-68505@statistik.d-u-v.org
SUMMARY:Stubai Ultratrail - city2glacier
DESCRIPTION: Stubai Ultratrail - city2glacier\n
  Julia Conrad PLAN B event company GmbH\n
  julia.conrad[at]planb-event.com
DTSTART:20210703T000000
DTEND:00000000T235900
LOCATION:Innsbruck\, AUT
URL:http://www.stubai-ultratrail.com
CATEGORIES:Ultramarathon
CONTACT:Julia Conrad PLAN B event company GmbH
CLASS:PUBLIC
PRIORITY:5
TRANSP:OPAQUE
END:VEVENT
END:VCALENDAR
