BEGIN:VCALENDAR
PRODID:-//http://statistik.d-u-v.org//PHP ultracalendar//EN
VERSION:2.0
METHOD:PUBLISH
BEGIN:VEVENT
DTSTAMP:20260422T134031
CREATED:20200704T143705
UID:1776865231.0.16826500-68489@statistik.d-u-v.org
SUMMARY:24 ore di Milano su pista
DESCRIPTION: 24 ore di Milano su pista\n
  \n
  
DTSTART:19750301T000000
DTEND:19750302T235900
LOCATION:Milano\, ITA
URL:
CATEGORIES:Ultramarathon
CONTACT:
CLASS:PUBLIC
PRIORITY:5
TRANSP:OPAQUE
END:VEVENT
END:VCALENDAR
