BEGIN:VCALENDAR
PRODID:-//http://statistik.d-u-v.org//PHP ultracalendar//EN
VERSION:2.0
METHOD:PUBLISH
BEGIN:VEVENT
DTSTAMP:20260422T232619
CREATED:20200704T105215
UID:1776900379.0.15918300-68477@statistik.d-u-v.org
SUMMARY:24 ore di Lecco su pista
DESCRIPTION: 24 ore di Lecco su pista\n
  \n
  
DTSTART:19710508T000000
DTEND:19710509T235900
LOCATION:Lecco\, ITA
URL:
CATEGORIES:Ultramarathon
CONTACT:
CLASS:PUBLIC
PRIORITY:5
TRANSP:OPAQUE
END:VEVENT
END:VCALENDAR
