BEGIN:VCALENDAR
PRODID:-//http://statistik.d-u-v.org//PHP ultracalendar//EN
VERSION:2.0
METHOD:PUBLISH
BEGIN:VEVENT
DTSTAMP:20260419T185835
CREATED:20200701T211153
UID:1776625115.0.57206300-68444@statistik.d-u-v.org
SUMMARY:Les 12 heures de Royan - course
DESCRIPTION: Les 12 heures de Royan - course\n
  Daniel Fritzsch\n
  12.24.48heuresderoyan[at]gmail.com
DTSTART:20211002T083000
DTEND:00000000T235900
LOCATION:Royan\, FRA
URL:http://www.48hderoyan.fr/
CATEGORIES:Ultramarathon
CONTACT:Daniel Fritzsch
CLASS:PUBLIC
PRIORITY:5
TRANSP:OPAQUE
END:VEVENT
END:VCALENDAR
