BEGIN:VCALENDAR
PRODID:-//http://statistik.d-u-v.org//PHP ultracalendar//EN
VERSION:2.0
METHOD:PUBLISH
BEGIN:VEVENT
DTSTAMP:20260423T034906
CREATED:20200630T120652
UID:1776916146.0.88392600-68388@statistik.d-u-v.org
SUMMARY:Chester Park 6 Hour Trail Race
DESCRIPTION: Chester Park 6 Hour Trail Race\n
  Mike Ward\n
  mike[at]duluthtimingandevents.com
DTSTART:20200628T100000
DTEND:00000000T235900
LOCATION:Duluth, MN\, USA
URL:http://chesterparktrailrace.com/
CATEGORIES:Ultramarathon
CONTACT:Mike Ward
CLASS:PUBLIC
PRIORITY:5
TRANSP:OPAQUE
END:VEVENT
END:VCALENDAR
