BEGIN:VCALENDAR
PRODID:-//http://statistik.d-u-v.org//PHP ultracalendar//EN
VERSION:2.0
METHOD:PUBLISH
BEGIN:VEVENT
DTSTAMP:20260419T164709
CREATED:20200630T084111
UID:1776617229.0.03766700-68383@statistik.d-u-v.org
SUMMARY:Capt'n Karl's Trail Series  - Reveille Peak Ranch
DESCRIPTION: Capt'n Karl's Trail Series  - Reveille Peak Ranch\n
  \n
  brad[at]traverserunning.com
DTSTART:20200829T190000
DTEND:20200830T235900
LOCATION:Burnet, TX\, USA
URL:http://www.tejastrails.com/ck-reveille/
CATEGORIES:Ultramarathon
CONTACT:
CLASS:PUBLIC
PRIORITY:5
TRANSP:OPAQUE
END:VEVENT
END:VCALENDAR
