BEGIN:VCALENDAR
PRODID:-//http://statistik.d-u-v.org//PHP ultracalendar//EN
VERSION:2.0
METHOD:PUBLISH
BEGIN:VEVENT
DTSTAMP:20260423T052627
CREATED:20200630T070600
UID:1776921987.0.31612500-68377@statistik.d-u-v.org
SUMMARY:Black Hills 50 Km Run
DESCRIPTION: Black Hills 50 Km Run\n
  Jerry Dunn, Ryan Phillips or Chris Stores\n
  blackhillsultra[at]gmail.com
DTSTART:20210625T000000
DTEND:20210626T235900
LOCATION:Sturgis, SD\, USA
URL:http://www.blackhills100.com/
CATEGORIES:Ultramarathon
CONTACT:Jerry Dunn, Ryan Phillips or Chris Stores
CLASS:PUBLIC
PRIORITY:5
TRANSP:OPAQUE
END:VEVENT
END:VCALENDAR
