BEGIN:VCALENDAR
PRODID:-//http://statistik.d-u-v.org//PHP ultracalendar//EN
VERSION:2.0
METHOD:PUBLISH
BEGIN:VEVENT
DTSTAMP:20260422T044117
CREATED:20200624T100603
UID:1776832877.0.14930100-68278@statistik.d-u-v.org
SUMMARY:Hofors varv efter varv
DESCRIPTION: Hofors varv efter varv\n
  Christian Länk\n
  christianlank[at]hotmail.com
DTSTART:20200509T000000
DTEND:00000000T235900
LOCATION:Hofors\, SWE
URL:https://www.facebook.com/events/110964500287975/?active_tab=about
CATEGORIES:Ultramarathon
CONTACT:Christian Länk
CLASS:PUBLIC
PRIORITY:5
TRANSP:OPAQUE
END:VEVENT
END:VCALENDAR
