BEGIN:VCALENDAR
PRODID:-//http://statistik.d-u-v.org//PHP ultracalendar//EN
VERSION:2.0
METHOD:PUBLISH
BEGIN:VEVENT
DTSTAMP:20260422T221353
CREATED:20100224T145715
UID:1776896033.0.52999500-6825@statistik.d-u-v.org
SUMMARY:12h Caboolture Historical Village Dusk to Dawn
DESCRIPTION: 12h Caboolture Historical Village Dusk to Dawn\n
  \n
  
DTSTART:20070210T000000
DTEND:20070211T235900
LOCATION:Caboolture, QLD\, AUS
URL:
CATEGORIES:Ultramarathon
CONTACT:
CLASS:PUBLIC
PRIORITY:5
TRANSP:OPAQUE
END:VEVENT
END:VCALENDAR
