BEGIN:VCALENDAR
PRODID:-//http://statistik.d-u-v.org//PHP ultracalendar//EN
VERSION:2.0
METHOD:PUBLISH
BEGIN:VEVENT
DTSTAMP:20260422T105921
CREATED:20100224T143109
UID:1776855561.0.56676100-6821@statistik.d-u-v.org
SUMMARY:24 h Lauf Elze - 100km Split
DESCRIPTION: 24 h Lauf Elze - 100km Split\n
  \n
  
DTSTART:19900817T000000
DTEND:19900818T235900
LOCATION:Elze\, GER
URL:
CATEGORIES:Ultramarathon
CONTACT:
CLASS:PUBLIC
PRIORITY:5
TRANSP:OPAQUE
END:VEVENT
END:VCALENDAR
