BEGIN:VCALENDAR
PRODID:-//http://statistik.d-u-v.org//PHP ultracalendar//EN
VERSION:2.0
METHOD:PUBLISH
BEGIN:VEVENT
DTSTAMP:20260425T233230
CREATED:20200621T155009
UID:1777159950.0.91023800-68145@statistik.d-u-v.org
SUMMARY:Ispitai Sebia Ultramarathon, 24h St. Petersburg - 12h Split
DESCRIPTION: Ispitai Sebia Ultramarathon, 24h St. Petersburg - 12h Split\n
  \n
  
DTSTART:20060902T000000
DTEND:00000000T235900
LOCATION:St. Petersburg\, RUS
URL:
CATEGORIES:Ultramarathon
CONTACT:
CLASS:PUBLIC
PRIORITY:5
TRANSP:OPAQUE
END:VEVENT
END:VCALENDAR
