BEGIN:VCALENDAR
PRODID:-//http://statistik.d-u-v.org//PHP ultracalendar//EN
VERSION:2.0
METHOD:PUBLISH
BEGIN:VEVENT
DTSTAMP:20260424T160415
CREATED:20200619T153422
UID:1777046655.0.14576700-68136@statistik.d-u-v.org
SUMMARY:24 Hour Stadium Run Odessa
DESCRIPTION: 24 Hour Stadium Run Odessa\n
  \n
  
DTSTART:19931018T000000
DTEND:19931019T235900
LOCATION:Odessa\, UKR
URL:
CATEGORIES:Ultramarathon
CONTACT:
CLASS:PUBLIC
PRIORITY:5
TRANSP:OPAQUE
END:VEVENT
END:VCALENDAR
