BEGIN:VCALENDAR
PRODID:-//http://statistik.d-u-v.org//PHP ultracalendar//EN
VERSION:2.0
METHOD:PUBLISH
BEGIN:VEVENT
DTSTAMP:20260423T011115
CREATED:20200618T132348
UID:1776906675.0.17425900-68121@statistik.d-u-v.org
SUMMARY:Lattomeren Ultraintervalli
DESCRIPTION: Lattomeren Ultraintervalli\n
  \n
  
DTSTART:20200613T100000
DTEND:20200614T235900
LOCATION:Lattomeri\, FIN
URL:https://ultrajuoksu.fi/lattomeren-ultraintervalli/
CATEGORIES:Ultramarathon
CONTACT:
CLASS:PUBLIC
PRIORITY:5
TRANSP:OPAQUE
END:VEVENT
END:VCALENDAR
