BEGIN:VCALENDAR
PRODID:-//http://statistik.d-u-v.org//PHP ultracalendar//EN
VERSION:2.0
METHOD:PUBLISH
BEGIN:VEVENT
DTSTAMP:20260420T121400
CREATED:20200616T100357
UID:1776687240.0.31717100-68048@statistik.d-u-v.org
SUMMARY:New Store Old Street Ultra Run
DESCRIPTION: New Store Old Street Ultra Run\n
  \n
  
DTSTART:20201011T060000
DTEND:00000000T235900
LOCATION:Shitan Township\, TPE
URL:https://www.ibodygo.com.tw/EventTopic.aspx?n=1062
CATEGORIES:Ultramarathon
CONTACT:
CLASS:PUBLIC
PRIORITY:5
TRANSP:OPAQUE
END:VEVENT
END:VCALENDAR
