BEGIN:VCALENDAR
PRODID:-//http://statistik.d-u-v.org//PHP ultracalendar//EN
VERSION:2.0
METHOD:PUBLISH
BEGIN:VEVENT
DTSTAMP:20260423T035002
CREATED:20200608T175651
UID:1776916202.0.30787700-67956@statistik.d-u-v.org
SUMMARY:Grand Raid des Pyrénées - Tour des Cirques
DESCRIPTION: Grand Raid des Pyrénées - Tour des Cirques\n
  \n
  contact[at]grandraidpyrenees.com
DTSTART:20210820T110000
DTEND:20210822T060000
LOCATION:Piau-Engaly\, FRA
URL:https://www.grandraidpyrenees.com
CATEGORIES:Ultramarathon
CONTACT:
CLASS:PUBLIC
PRIORITY:5
TRANSP:OPAQUE
END:VEVENT
END:VCALENDAR
