BEGIN:VCALENDAR
PRODID:-//http://statistik.d-u-v.org//PHP ultracalendar//EN
VERSION:2.0
METHOD:PUBLISH
BEGIN:VEVENT
DTSTAMP:20260419T233313
CREATED:20200602T162152
UID:1776641593.0.95636200-67821@statistik.d-u-v.org
SUMMARY:Peak Ultra 500 Mile Endurance Run
DESCRIPTION: Peak Ultra 500 Mile Endurance Run\n
  Andy Weinberg\n
  andy[at]peak.com
DTSTART:20200903T180000
DTEND:20200912T160000
LOCATION:Pittsfield, VT\, USA
URL:http://peakraces.com/running-races/peak-ultra/
CATEGORIES:Ultramarathon
CONTACT:Andy Weinberg
CLASS:PUBLIC
PRIORITY:5
TRANSP:OPAQUE
END:VEVENT
END:VCALENDAR
