BEGIN:VCALENDAR
PRODID:-//http://statistik.d-u-v.org//PHP ultracalendar//EN
VERSION:2.0
METHOD:PUBLISH
BEGIN:VEVENT
DTSTAMP:20260423T014724
CREATED:20200526T104437
UID:1776908844.0.28212600-67698@statistik.d-u-v.org
SUMMARY:White Rose 150 Mile Ultra
DESCRIPTION: White Rose 150 Mile Ultra\n
  Wane Law\n
  wane[at]teamoa.co.uk
DTSTART:20201106T173000
DTEND:20201108T235900
LOCATION:Huddersfield\, GBR
URL:http://www.whiteroseultra.co.uk
CATEGORIES:Ultramarathon
CONTACT:Wane Law
CLASS:PUBLIC
PRIORITY:5
TRANSP:OPAQUE
END:VEVENT
END:VCALENDAR
