BEGIN:VCALENDAR
PRODID:-//http://statistik.d-u-v.org//PHP ultracalendar//EN
VERSION:2.0
METHOD:PUBLISH
BEGIN:VEVENT
DTSTAMP:20260425T220315
CREATED:20200521T035129
UID:1777154595.0.88157700-67477@statistik.d-u-v.org
SUMMARY:Bedok Reservoir 12 hour Ultramarathon
DESCRIPTION: Bedok Reservoir 12 hour Ultramarathon\n
  Ben Swee\n
  
DTSTART:20230624T070000
DTEND:00000000T235900
LOCATION:Singapore\, SGP
URL:https://www.bedokultra.com/
CATEGORIES:Ultramarathon
CONTACT:Ben Swee
CLASS:PUBLIC
PRIORITY:5
TRANSP:OPAQUE
END:VEVENT
END:VCALENDAR
