BEGIN:VCALENDAR
PRODID:-//http://statistik.d-u-v.org//PHP ultracalendar//EN
VERSION:2.0
METHOD:PUBLISH
BEGIN:VEVENT
DTSTAMP:20260419T223147
CREATED:20100220T235845
UID:1776637907.0.87757300-6733@statistik.d-u-v.org
SUMMARY:Laugavegurinn 55 km, Landmannalaugar - Langidalur
DESCRIPTION: Laugavegurinn 55 km, Landmannalaugar - Langidalur\n
  \n
  marathon[at]marathon.is
DTSTART:19970726T000000
DTEND:00000000T235900
LOCATION:Landmannalaugar\, ISL
URL:http://www.marathon.is/ultramarathon
CATEGORIES:Ultramarathon
CONTACT:
CLASS:PUBLIC
PRIORITY:5
TRANSP:OPAQUE
END:VEVENT
END:VCALENDAR
