BEGIN:VCALENDAR
PRODID:-//http://statistik.d-u-v.org//PHP ultracalendar//EN
VERSION:2.0
METHOD:PUBLISH
BEGIN:VEVENT
DTSTAMP:20260424T214812
CREATED:20200507T030907
UID:1777067292.0.12233500-66986@statistik.d-u-v.org
SUMMARY:The 9 Dragons Malaysia
DESCRIPTION: The 9 Dragons Malaysia\n
  \n
  info[at]mmtf.my
DTSTART:20221030T080000
DTEND:00000000T235900
LOCATION:Langkawi\, MAS
URL:https://www.facebook.com/events/804480086674003/?active_tab=discussion
CATEGORIES:Ultramarathon
CONTACT:
CLASS:PUBLIC
PRIORITY:5
TRANSP:OPAQUE
END:VEVENT
END:VCALENDAR
