BEGIN:VCALENDAR
PRODID:-//http://statistik.d-u-v.org//PHP ultracalendar//EN
VERSION:2.0
METHOD:PUBLISH
BEGIN:VEVENT
DTSTAMP:20260423T040247
CREATED:20200506T180605
UID:1776916967.0.60305600-66960@statistik.d-u-v.org
SUMMARY:MesaStila Ultra Race 170K
DESCRIPTION: MesaStila Ultra Race 170K\n
  Sri Agus Budi Santoso\n
  info[at]mpcultra.com
DTSTART:20201009T170000
DTEND:20201011T170000
LOCATION:Mesastila\, INA
URL:https://mesastila100ultra.com/general-infromation/
CATEGORIES:Ultramarathon
CONTACT:Sri Agus Budi Santoso
CLASS:PUBLIC
PRIORITY:5
TRANSP:OPAQUE
END:VEVENT
END:VCALENDAR
