BEGIN:VCALENDAR
PRODID:-//http://statistik.d-u-v.org//PHP ultracalendar//EN
VERSION:2.0
METHOD:PUBLISH
BEGIN:VEVENT
DTSTAMP:20260425T195452
CREATED:20200505T182210
UID:1777146892.0.26684200-66929@statistik.d-u-v.org
SUMMARY:Hong Kong 100 Ultra Trail Race
DESCRIPTION: Hong Kong 100 Ultra Trail Race\n
  \n
  hk100ultra[at]gmail.com
DTSTART:20210116T080000
DTEND:20210117T140000
LOCATION:Hong Kong\, HKG
URL:http://www.hk100-ultra.com/
CATEGORIES:Ultramarathon
CONTACT:
CLASS:PUBLIC
PRIORITY:5
TRANSP:OPAQUE
END:VEVENT
END:VCALENDAR
