BEGIN:VCALENDAR
PRODID:-//http://statistik.d-u-v.org//PHP ultracalendar//EN
VERSION:2.0
METHOD:PUBLISH
BEGIN:VEVENT
DTSTAMP:20260420T101453
CREATED:20200504T162059
UID:1776680093.0.91542700-66916@statistik.d-u-v.org
SUMMARY:OPSF Ultra 50 km Race
DESCRIPTION: OPSF Ultra 50 km Race\n
  Jeff Tincher (R.D.)\n
  
DTSTART:19961102T000000
DTEND:00000000T235900
LOCATION:Spencer, IN\, USA
URL:
CATEGORIES:Ultramarathon
CONTACT:Jeff Tincher (R.D.)
CLASS:PUBLIC
PRIORITY:5
TRANSP:OPAQUE
END:VEVENT
END:VCALENDAR
