BEGIN:VCALENDAR
PRODID:-//http://statistik.d-u-v.org//PHP ultracalendar//EN
VERSION:2.0
METHOD:PUBLISH
BEGIN:VEVENT
DTSTAMP:20260425T113537
CREATED:20200501T165939
UID:1777116937.0.97244600-66832@statistik.d-u-v.org
SUMMARY:The Breakers Marathon - Nifty Fifty Miles
DESCRIPTION: The Breakers Marathon - Nifty Fifty Miles\n
  \n
  
DTSTART:19991127T000000
DTEND:00000000T235900
LOCATION:Coventry, RI\, USA
URL:
CATEGORIES:Ultramarathon
CONTACT:
CLASS:PUBLIC
PRIORITY:5
TRANSP:OPAQUE
END:VEVENT
END:VCALENDAR
