BEGIN:VCALENDAR
PRODID:-//http://statistik.d-u-v.org//PHP ultracalendar//EN
VERSION:2.0
METHOD:PUBLISH
BEGIN:VEVENT
DTSTAMP:20260420T060810
CREATED:20200510T193945
UID:1776665290.0.02966500-66743@statistik.d-u-v.org
SUMMARY:Self-Transcendence 6 Day Race, New York - 48h split
DESCRIPTION: Self-Transcendence 6 Day Race, New York - 48h split\n
  \n
  
DTSTART:20020428T000000
DTEND:20020504T235900
LOCATION:New York, NY\, USA
URL:
CATEGORIES:Ultramarathon
CONTACT:
CLASS:PUBLIC
PRIORITY:5
TRANSP:OPAQUE
END:VEVENT
END:VCALENDAR
