BEGIN:VCALENDAR
PRODID:-//http://statistik.d-u-v.org//PHP ultracalendar//EN
VERSION:2.0
METHOD:PUBLISH
BEGIN:VEVENT
DTSTAMP:20260419T185915
CREATED:20200424T224340
UID:1776625155.0.50466500-66648@statistik.d-u-v.org
SUMMARY:Eiger Ultra Trail 101 km
DESCRIPTION: Eiger Ultra Trail 101 km\n
  Ralph Näf\n
  info[at]eigerultratrail.ch
DTSTART:20210717T040000
DTEND:20210718T050000
LOCATION:Grindelwald\, SUI
URL:http://www.eigerultratrail.ch
CATEGORIES:Ultramarathon
CONTACT:Ralph Näf
CLASS:PUBLIC
PRIORITY:5
TRANSP:OPAQUE
END:VEVENT
END:VCALENDAR
