BEGIN:VCALENDAR
PRODID:-//http://statistik.d-u-v.org//PHP ultracalendar//EN
VERSION:2.0
METHOD:PUBLISH
BEGIN:VEVENT
DTSTAMP:20260420T054802
CREATED:20100216T165623
UID:1776664082.0.62902600-6664@statistik.d-u-v.org
SUMMARY:Little Su 50 km
DESCRIPTION: Little Su 50 km\n
  \n
  
DTSTART:20040214T000000
DTEND:00000000T235900
LOCATION:Anchorage, AK\, USA
URL:http://www.susitna100.com/index.php
CATEGORIES:Ultramarathon
CONTACT:
CLASS:PUBLIC
PRIORITY:5
TRANSP:OPAQUE
END:VEVENT
END:VCALENDAR
