BEGIN:VCALENDAR
PRODID:-//http://statistik.d-u-v.org//PHP ultracalendar//EN
VERSION:2.0
METHOD:PUBLISH
BEGIN:VEVENT
DTSTAMP:20260423T035831
CREATED:20200404T123254
UID:1776916711.0.69536100-66148@statistik.d-u-v.org
SUMMARY:The Devil's Challenge
DESCRIPTION: The Devil's Challenge\n
  \n
  info[at]xnrg.co.uk
DTSTART:20210430T000000
DTEND:20210502T235900
LOCATION:Winchester\, GBR
URL:https://www.xnrg.co.uk/events/details/the-devils-challenge-2020.aspx
CATEGORIES:Ultramarathon
CONTACT:
CLASS:PUBLIC
PRIORITY:5
TRANSP:OPAQUE
END:VEVENT
END:VCALENDAR
