BEGIN:VCALENDAR
PRODID:-//http://statistik.d-u-v.org//PHP ultracalendar//EN
VERSION:2.0
METHOD:PUBLISH
BEGIN:VEVENT
DTSTAMP:20260419T192129
CREATED:20200329T123158
UID:1776626489.0.61934500-66024@statistik.d-u-v.org
SUMMARY:6 Stundenlauf um den Sander See
DESCRIPTION: 6 Stundenlauf um den Sander See\n
  Frank Dams\n
  frank.dams[at]ewetel.net
DTSTART:20210605T110000
DTEND:00000000T235900
LOCATION:Sande\, GER
URL:http://www.ultrafriesen.de
CATEGORIES:Ultramarathon
CONTACT:Frank Dams
CLASS:PUBLIC
PRIORITY:5
TRANSP:OPAQUE
END:VEVENT
END:VCALENDAR
