BEGIN:VCALENDAR
PRODID:-//http://statistik.d-u-v.org//PHP ultracalendar//EN
VERSION:2.0
METHOD:PUBLISH
BEGIN:VEVENT
DTSTAMP:20260425T173747
CREATED:20200329T075448
UID:1777138667.0.30096600-65979@statistik.d-u-v.org
SUMMARY:Gangbuk 5 Mountain Trail Run
DESCRIPTION: Gangbuk 5 Mountain Trail Run\n
  \n
  
DTSTART:20120506T040000
DTEND:00000000T235900
LOCATION:Seoul\, KOR
URL:http://climbathon.co.kr/board/bbs/board.php?bo_table=race&rno=16&wr_id=125
CATEGORIES:Ultramarathon
CONTACT:
CLASS:PUBLIC
PRIORITY:5
TRANSP:OPAQUE
END:VEVENT
END:VCALENDAR
