BEGIN:VCALENDAR
PRODID:-//http://statistik.d-u-v.org//PHP ultracalendar//EN
VERSION:2.0
METHOD:PUBLISH
BEGIN:VEVENT
DTSTAMP:20260419T211143
CREATED:20200327T122622
UID:1776633103.0.78199200-65938@statistik.d-u-v.org
SUMMARY:Dunes 100 - 100/50-Mile Run
DESCRIPTION: Dunes 100 - 100/50-Mile Run\n
  \n
  info[at]downtorun.com
DTSTART:20200425T050000
DTEND:20200426T235900
LOCATION:Jupiter, FL\, USA
URL:http://www.downtorun.com/events-item/the-dunes-100/
CATEGORIES:Ultramarathon
CONTACT:
CLASS:PUBLIC
PRIORITY:5
TRANSP:OPAQUE
END:VEVENT
END:VCALENDAR
