BEGIN:VCALENDAR
PRODID:-//http://statistik.d-u-v.org//PHP ultracalendar//EN
VERSION:2.0
METHOD:PUBLISH
BEGIN:VEVENT
DTSTAMP:20260425T220235
CREATED:20200327T120849
UID:1777154555.0.82023900-65933@statistik.d-u-v.org
SUMMARY:The Blue 2 Blue Challenge
DESCRIPTION: The Blue 2 Blue Challenge\n
  \n
  jimmy[at]liveloudrunning.com
DTSTART:20200926T080000
DTEND:00000000T235900
LOCATION:New Haven, CT\, USA
URL:https://www.liveloudrunning.com/event-info/the-blue-2-blue-challenge
CATEGORIES:Ultramarathon
CONTACT:
CLASS:PUBLIC
PRIORITY:5
TRANSP:OPAQUE
END:VEVENT
END:VCALENDAR
