BEGIN:VCALENDAR
PRODID:-//http://statistik.d-u-v.org//PHP ultracalendar//EN
VERSION:2.0
METHOD:PUBLISH
BEGIN:VEVENT
DTSTAMP:20260424T160646
CREATED:20200326T140359
UID:1777046806.0.90542600-65912@statistik.d-u-v.org
SUMMARY:Backyard Soul Survivor -  Variable Hour Race
DESCRIPTION: Backyard Soul Survivor -  Variable Hour Race\n
  \n
  
DTSTART:20200417T190000
DTEND:20200418T235900
LOCATION:Albany, GA\, USA
URL:https://www.facebook.com/Goodlifecityrunners/
CATEGORIES:Ultramarathon
CONTACT:
CLASS:PUBLIC
PRIORITY:5
TRANSP:OPAQUE
END:VEVENT
END:VCALENDAR
